BEGIN:VCALENDAR
VERSION:2.0
PRODID:-//ChamberMaster//Event Calendar 2.0//EN
METHOD:PUBLISH
X-PUBLISHED-TTL:P3D
REFRESH-INTERVAL:P3D
CALSCALE:GREGORIAN
BEGIN:VEVENT
DTSTART:20191022T180000Z
DTEND:20191022T190000Z
X-MICROSOFT-CDO-ALLDAYEVENT:FALSE
SUMMARY:10/22 - Networking at Noon
DESCRIPTION:Connect with local business professionals in Windsor while also hearing from Dr. Tiffany Wall about her entrepreneurial journey as a chiropractor. \n\n\n\nDr. Tiffany Wall grew up on a farm outside Grant\, a small town in western Nebraska. It was during her freshman year of high school that a sports injury introduced her to chiropractic. She fell in love with the profession and has never turned back.\n\n\n\nShe graduated from Perkins County High School in 2008. She then attended Nebraska Wesleyan Universityin Lincoln\, Nebraska and graduated in 2012 with a Bachelor of Science Degree in Exercise Science.She went on to earn her Doctorate of Chiropractic\,graduating Cum Laude from Cleveland Chiropractic College in Kansas City. While at CCC\, Dr. Tiffany realized that chiropractic was more than just treating sports injuries and chronic pain\, but is a natural way to address digestive issues\, anxiety\, asthma\, ADHD\, high blood pressure\, menstrual and fertility issues\, colic and many childhood ailments.\n\n\n\nShe served as vice president for the Family Wellness Club and was a member of the Cleveland Chiropractic Mentors Club. She decided to also pursue an emphasis on Pregnancy and Pediatrics through the International Chiropractic Pediatric Association. She is Webster Technique Certified through the ICPA as well.
X-ALT-DESC;FMTTYPE=text/html:Connect with local business professionals in Windsor while also hearing from Dr. Tiffany Wall about her entrepreneurial journey as a chiropractor.&nbsp\;<br />\n<br />\nDr. Tiffany Wall grew up on a farm outside Grant\, a small town in western Nebraska. It was during her freshman year of high school that a sports injury introduced her to chiropractic. She fell in love with the profession and has never turned back.<br />\n<br />\nShe graduated from Perkins County High School in 2008. She then attended&nbsp\;Nebraska Wesleyan Universityin Lincoln\, Nebraska and graduated in 2012 with a&nbsp\;Bachelor of Science Degree in Exercise Science.She went on to earn her&nbsp\;Doctorate of Chiropractic\,graduating Cum Laude from&nbsp\;Cleveland Chiropractic College&nbsp\;in Kansas City. While at CCC\, Dr. Tiffany realized that chiropractic was more than just treating sports injuries and chronic pain\, but is a natural way to address digestive issues\, anxiety\, asthma\, ADHD\, high blood pressure\, menstrual and fertility issues\, colic and many childhood ailments.<br />\n<br />\nShe served as vice president for the Family Wellness Club and was a member of the Cleveland Chiropractic Mentors Club. She decided to also pursue an emphasis on Pregnancy and Pediatrics through the&nbsp\;<a href="http://icpa4kids.org/" rel="noopener noreferrer" target="_blank">International Chiropractic Pediatric Association</a>. She is&nbsp\;<a href="http://icpa4kids.org/Chiropractic-Research/webster-technique-defined.html" rel="noopener noreferrer" target="_blank">Webster Technique Certified</a>&nbsp\;through the ICPA as well.
LOCATION:
UID:e.2900.3076
SEQUENCE:3
DTSTAMP:20260422T040700Z
URL:https://business.windsorchamber.net/events/details/10-22-networking-at-noon-3076
END:VEVENT

END:VCALENDAR
