BEGIN:VCALENDAR
VERSION:2.0
PRODID:-//ChamberMaster//Event Calendar 2.0//EN
METHOD:PUBLISH
X-PUBLISHED-TTL:P3D
REFRESH-INTERVAL:P3D
CALSCALE:GREGORIAN
BEGIN:VEVENT
DTSTART:20191101T193000Z
DTEND:20191101T203000Z
X-MICROSOFT-CDO-ALLDAYEVENT:FALSE
SUMMARY:11/1 - Events Committee Kick-Off Meeting
DESCRIPTION:Join the Windsor Chamber Events Committee for our Kick-Off Meeting. This dynamic planning and networking committee will meet once per month and help the Chamber plan all Signature Events\, Networking Programs and Educational Seminars. \n\n\n\nIf you like getting involved\, sharing the excitement of your local Chamber and supporting through committee work\, the Events Committee is for you!
X-ALT-DESC;FMTTYPE=text/html:Join the Windsor Chamber Events Committee for our Kick-Off Meeting. This dynamic planning and networking committee will meet once per month and help the Chamber plan all Signature Events\, Networking Programs and Educational Seminars.&nbsp\;<br />\n<br />\nIf you like getting involved\, sharing the excitement of your local Chamber and supporting through committee work\, the Events Committee is for you!
LOCATION:
UID:e.2900.3277
SEQUENCE:3
DTSTAMP:20260423T090031Z
URL:https://business.windsorchamber.net/events/details/11-1-events-committee-kick-off-meeting-3277
END:VEVENT

END:VCALENDAR
