BEGIN:VCALENDAR
VERSION:2.0
PRODID:-//ChamberMaster//Event Calendar 2.0//EN
METHOD:PUBLISH
X-PUBLISHED-TTL:P3D
REFRESH-INTERVAL:P3D
CALSCALE:GREGORIAN
BEGIN:VEVENT
DTSTART:20200227T230000Z
DTEND:20200228T000000Z
X-MICROSOFT-CDO-ALLDAYEVENT:FALSE
SUMMARY:2/27 - Ribbon Cutting & Open House
DESCRIPTION:Welcome new member Seven Trees Med Spa in Water Valley. New to Windsor but not to helping clients look and feel amazing! \n\nSeven Trees Aesthetics is a trusted medical spa with over 30 years of combined medical experience. Their team of professionals make each and every customer feel comfortable and safe. Go in and visit today to have an amazing experience that will make you feel younger\, more confident\, and rejuvenated.
X-ALT-DESC;FMTTYPE=text/html:Welcome new member Seven Trees Med Spa in Water Valley. New to Windsor but not to helping clients look and feel amazing!&nbsp\;\n<div>\n<p>Seven Trees Aesthetics is a trusted medical spa with over 30 years of combined medical experience.&nbsp\;Their team of professionals make each and every customer feel comfortable and safe.&nbsp\;Go in and visit today to have an amazing experience that will make you feel younger\, more confident\, and rejuvenated.</p>\n</div>\n
LOCATION:
UID:e.2900.3428
SEQUENCE:3
DTSTAMP:20260422T051357Z
URL:https://business.windsorchamber.net/events/details/2-27-ribbon-cutting-open-house-3428
END:VEVENT

END:VCALENDAR
