BEGIN:VCALENDAR
VERSION:2.0
PRODID:-//ChamberMaster//Event Calendar 2.0//EN
METHOD:PUBLISH
X-PUBLISHED-TTL:P3D
REFRESH-INTERVAL:P3D
CALSCALE:GREGORIAN
BEGIN:VEVENT
DTSTART:20190408T163000Z
DTEND:20190408T183000Z
X-MICROSOFT-CDO-ALLDAYEVENT:FALSE
SUMMARY:2019 NoCoNet Job Fair
DESCRIPTION:Job Seekers\, don't miss the Northern Colorado's premier Job Fair on Monday\, April 8\, 2019 at Faith Church\, 3920 South Shields Street in Fort Collins. It is free and hosted by the Northern Colorado Networking Group (NoCoNet). Open at 9:30 to Veterans & NoCoNet members and 10:30 to General Public. This free job fair is hosted by the Northern Colorado Networking Group\, NoCoNet. Attending job seekers will find direct interaction with over 30+ diverse employers looking to fill positions in Northern Colorado. Companies from a variety of industries looking for a variety of skill sets will be there. Again\, the doors open for Veterans and NoCoNet members at 9:30\, with free access to the general public from 10:30   12:30. For more information\, visit noconet.org\, and click on "NoCoNet Job Fairs".
X-ALT-DESC;FMTTYPE=text/html:Job Seekers\, don&rsquo\;t miss the Northern Colorado&rsquo\;s premier Job Fair on Monday\, April 8\, 2019 at Faith Church\, 3920 South Shields Street in Fort Collins. It is free and hosted by the Northern Colorado Networking Group (NoCoNet). Open at 9:30 to Veterans &amp\; NoCoNet members and 10:30 to General Public. This free job fair is hosted by the Northern Colorado Networking Group\, NoCoNet. Attending job seekers will find direct interaction with over 30+ diverse employers looking to fill positions in Northern Colorado. Companies from a variety of industries looking for a variety of skill sets will be there. Again\, the doors open for Veterans and NoCoNet members at 9:30\, with free access to the general public from 10:30 &ndash\; 12:30. For more information\, visit noconet.org\, and click on &ldquo\;NoCoNet Job Fairs&rdquo\;.
LOCATION:Faith Church 3920 South Shields Street\, Fort Collins\, CO 80526
UID:e.2900.1591
SEQUENCE:3
DTSTAMP:20260423T180130Z
URL:https://business.windsorchamber.net/events/details/2019-noconet-job-fair-1591
END:VEVENT

END:VCALENDAR
