BEGIN:VCALENDAR
VERSION:2.0
PRODID:-//ChamberMaster//Event Calendar 2.0//EN
METHOD:PUBLISH
X-PUBLISHED-TTL:P3D
REFRESH-INTERVAL:P3D
CALSCALE:GREGORIAN
BEGIN:VEVENT
DTSTART:20170917T000000Z
DTEND:20170917T030000Z
X-MICROSOFT-CDO-ALLDAYEVENT:FALSE
SUMMARY:5th Annual Glimmer of Hope
DESCRIPTION:5th Annual Glimmer of Hope - Suicide Prevention - 3 K Fundraiser Walk and memorial Balloon Release will be held. Live Music and Games
X-ALT-DESC;FMTTYPE=text/html:5th Annual Glimmer of Hope - Suicide Prevention - 3 K Fundraiser Walk and memorial Balloon Release will be held. Live Music and Games
LOCATION:Bittersweet Park\, Greeley\, CO
UID:e.2900.79
SEQUENCE:3
DTSTAMP:20260424T203414Z
URL:https://business.windsorchamber.net/events/details/5th-annual-glimmer-of-hope-79
END:VEVENT

END:VCALENDAR
