BEGIN:VCALENDAR
VERSION:2.0
PRODID:-//ChamberMaster//Event Calendar 2.0//EN
METHOD:PUBLISH
X-PUBLISHED-TTL:P3D
REFRESH-INTERVAL:P3D
CALSCALE:GREGORIAN
BEGIN:VEVENT
DTSTART:20190829T140000Z
DTEND:20190829T150000Z
X-MICROSOFT-CDO-ALLDAYEVENT:FALSE
SUMMARY:8/29 - 8AM Windsor Leads Group
DESCRIPTION:Bi-weekly meeting of the PM Windsor Leads Group. Category specific\, focused on local relationships and a great way to connect with other like-minded professionals in Windsor. Accepting applications for remaining seats. \n\n\n\nApplication available here online.
X-ALT-DESC;FMTTYPE=text/html:Bi-weekly meeting of the PM Windsor Leads Group. Category specific\, focused on local relationships and a great way to connect with other like-minded professionals in Windsor. Accepting applications for remaining seats.&nbsp\;<br />\n<br />\nApplication available <a href="https://conta.cc/31XfAB4">here</a> online.
LOCATION:Clearview Library Meeting Room
UID:e.2900.2063
SEQUENCE:3
DTSTAMP:20260422T081613Z
URL:https://business.windsorchamber.net/events/details/8-29-8am-windsor-leads-group-2063
END:VEVENT

END:VCALENDAR
