BEGIN:VCALENDAR
VERSION:2.0
PRODID:-//ChamberMaster//Event Calendar 2.0//EN
METHOD:PUBLISH
X-PUBLISHED-TTL:P3D
REFRESH-INTERVAL:P3D
CALSCALE:GREGORIAN
BEGIN:VEVENT
DTSTART:20190910T180000Z
DTEND:20190910T190000Z
X-MICROSOFT-CDO-ALLDAYEVENT:FALSE
SUMMARY:9/10 - Ambassador Meeting & Networking
DESCRIPTION:Ambassadors are invited to our monthly meeting! Bring your energy\, excitement and business cards! This meeting is fast-paced\, packed with info and features some networking time. A light lunch will be available.
X-ALT-DESC;FMTTYPE=text/html:Ambassadors are invited to our monthly meeting! Bring your energy\, excitement and business cards! This meeting is fast-paced\, packed with info and features some networking time. A light lunch will be available.
LOCATION:Resort 55 500 Apex Drive Windsor
UID:e.2900.1934
SEQUENCE:3
DTSTAMP:20260421T172306Z
URL:https://business.windsorchamber.net/events/details/9-10-ambassador-meeting-networking-1934
END:VEVENT

END:VCALENDAR
