BEGIN:VCALENDAR
VERSION:2.0
PRODID:-//ChamberMaster//Event Calendar 2.0//EN
METHOD:PUBLISH
X-PUBLISHED-TTL:P3D
REFRESH-INTERVAL:P3D
CALSCALE:GREGORIAN
BEGIN:VEVENT
DTSTART:20190912T233000Z
DTEND:20190913T000000Z
X-MICROSOFT-CDO-ALLDAYEVENT:FALSE
SUMMARY:9/12 - Ribbon Cutting: Severance HS (Open House & Dedication)
DESCRIPTION:RIBBON CUTTING AT 5:30 PM!\n\n\n\nAs a friend\, champion and supporter of the Weld RE-4 School District\, you are invited to attend a VIP tour of the newly built state-of-the-art Severance High School. Please join us and be among the first in our community to tour the stunning new facility.\n\nFollowing the VIP tours\, help us welcome the Severance High School community with an official Windsor Chamber of Commerce ribbon cutting ceremony beginning at 5:30 p.m.
X-ALT-DESC;FMTTYPE=text/html:<div title="Page 1">\n<div>\n<div>\n<p>RIBBON CUTTING AT 5:30 PM!<br />\n<br />\nAs a friend\, champion and supporter of the Weld RE-4 School District\, you are invited to attend a&nbsp\;VIP tour&nbsp\;of the newly built state-of-the-art&nbsp\;Severance High School.&nbsp\;Please join us and be among the first in our community to tour the stunning new facility.</p>\n\n<p>Following the VIP tours\, help us welcome the Severance High School community with an official Windsor Chamber of Commerce ribbon cutting ceremony beginning at 5:30 p.m.</p>\n</div>\n</div>\n</div>\n
LOCATION:Location: Severance High School Address: 1200 Hidden Valley Parkway Severance (do not use maps) Directions: From 392 take CR23 north. HS is about 1 mile north on the west side. Parking in the back (west) parking lot.
UID:e.2900.2062
SEQUENCE:3
DTSTAMP:20260423T113206Z
URL:https://business.windsorchamber.net/events/details/9-12-ribbon-cutting-severance-hs-open-house-dedication-2062
END:VEVENT

END:VCALENDAR
