BEGIN:VCALENDAR
VERSION:2.0
PRODID:-//ChamberMaster//Event Calendar 2.0//EN
METHOD:PUBLISH
X-PUBLISHED-TTL:P3D
REFRESH-INTERVAL:P3D
CALSCALE:GREGORIAN
BEGIN:VEVENT
DTSTART:20190917T173000Z
DTEND:20190917T183000Z
X-MICROSOFT-CDO-ALLDAYEVENT:FALSE
SUMMARY:9/17 - Brand Vision Seminar
DESCRIPTION:Companies need to create their own brand identity like never before\, and developing a brand vision statement is the first step.\n\n\n\nJoin Warren Diggles\, President of Diggles Creative\, in this workshop dedicated to helping you create yours. Learn what a brand vision is\, why you need one\, and how to write yours using our step-by-step worksheet.\n\n\n\nDuring the session\, Warren will walk you through the worksheet and you will leave with a completed brand vision statement. Learn what a brand vision is\, why you need one\, and how to write yours by attending our step-by-step seminar. \n\n\n\nThe brand vision for your company describes what lasting difference you want your company to make in the future.\n\n	What does your company exist?\n	What are you known for?\n	What will your company never do?\n	What are your goals?\n	How do we make our customer's lives better?\n	....and many other important questions\n\n\n\nUnderstanding these concepts will help you refine your vision\, messaging and focus on services that your customers want.\n\n\n\nInstructor: Warren Diggles\, Owner and Creative Director\, Diggles Creative\n\n\n\nTake the guesswork out of your marketing decisions and know you are doing it right.\n\n\n\nAs a business owner\, you already understand the importance of cost-effective marketing. However\, would you be surprised to know that most business owners are unsure of how to improve their marketing strategies or in more cases than you might think whether their marketing strategies are working at all?\n\n\n\nYou should feel confident about your marketing\, but that's not what most people experience. In the past\, you may have felt discouraged\, let down\, and unclear about what steps to take next.\n\n\n\nWe believe everyone deserves to feel certain that their marketing dollars will deliver dependable growth for their business. Which is why\, since 2001\, we've been developing our sustainable approach to marketing.\n\n\n\nWith strategy and a long-term plan that delivers measurable results\, you can take the guesswork out of the entire process and enjoy a happy bottom line.\n\n\n\nVisit our website at www.digglescreative.com or call (970) 744-3611 to learn more about how our strategic approach to marketing will help you focus on measurable steps that lead to sustainable growth.
X-ALT-DESC;FMTTYPE=text/html:Companies need to create their own brand identity like never before\, and developing a brand vision statement is the first step.<br />\n<br />\nJoin Warren Diggles\, President of Diggles Creative\, in this workshop dedicated to helping you create yours. Learn what a brand vision is\, why you need one\, and how to write yours using our step-by-step worksheet.<br />\n<br />\nDuring the session\, Warren will walk you through the worksheet and you will leave with a completed brand vision statement.&nbsp\;Learn what a brand vision is\, why you need one\, and how to write yours by attending our step-by-step seminar.&nbsp\;<br />\n<br />\nThe brand vision for your company describes what lasting difference you want your company to make in the future.\n<ul>\n	<li>What does your company exist?</li>\n	<li>What are you known for?</li>\n	<li>What will your company never do?</li>\n	<li>What are your goals?</li>\n	<li>How do we make our customer&#39\;s lives better?</li>\n	<li>....and many other important questions</li>\n</ul>\n<br />\nUnderstanding these concepts will help you refine your vision\, messaging and focus on services that your customers want.<br />\n<br />\n<strong>Instructor:</strong> Warren Diggles\, Owner and Creative Director\, <a href="https://www.digglescreative.com">Diggles Creative</a><br />\n<br />\nTake the guesswork out of your marketing decisions and know you are doing it right.<br />\n<br />\nAs a business owner\, you already understand the importance of cost-effective marketing. However\, would you be surprised to know that most business owners are unsure of how to improve their marketing strategies or&mdash\;in more cases than you might think&mdash\;whether their marketing strategies are working at all?<br />\n<br />\nYou should feel confident about your marketing\, but that&rsquo\;s not what most people experience. In the past\, you may have felt discouraged\, let down\, and unclear about what steps to take next.<br />\n<br />\nWe believe everyone deserves to feel certain that their marketing dollars will deliver dependable growth for their business. Which is why\, since 2001\, we&rsquo\;ve been developing our sustainable approach to marketing.<br />\n<br />\nWith strategy and a long-term plan that delivers measurable results\, you can take the guesswork out of the entire process and enjoy a happy bottom line.<br />\n<br />\nVisit our website at&nbsp\;<a href="http://www.digglescreative.com/">www.digglescreative.com</a>&nbsp\;or call (970) 744-3611 to learn more about how our strategic approach to marketing will help you focus on measurable steps that lead to sustainable growth.
LOCATION:55 Resort Movie Theater
UID:e.2900.2059
SEQUENCE:3
DTSTAMP:20260421T044053Z
URL:https://business.windsorchamber.net/events/details/9-17-brand-vision-seminar-2059
END:VEVENT

END:VCALENDAR
