BEGIN:VCALENDAR
VERSION:2.0
PRODID:-//ChamberMaster//Event Calendar 2.0//EN
METHOD:PUBLISH
X-PUBLISHED-TTL:P3D
REFRESH-INTERVAL:P3D
CALSCALE:GREGORIAN
BEGIN:VEVENT
DTSTART:20201118T003000Z
DTEND:20201118T023000Z
X-MICROSOFT-CDO-ALLDAYEVENT:FALSE
SUMMARY:AEI Studio and Gifts\, Sip & Shop
DESCRIPTION:Let's Celebrate 5 Year Anniversary\, Sip & Shop\n\n \n\nGrab your holiday shopping list\, be sure to check it twice\, for all your friends and family who have been naughty or nice!\n\n \n\nDate: November 17th\n\nTime: 5:30 to 7:30 PM\n\nLocation: 503 Main Street\, Windsor CO\n\n \n\nCome check out and enjoy some great products and have a refreshment or two.\n\n \n\nBring a friend\, have some fun\, and let us get to know you
X-ALT-DESC;FMTTYPE=text/html:<strong><span style="color:#333333\;"><span style="font-family:trebuchet ms\,sans-serif\;"><span style="font-size:22.0pt\;">Let&rsquo\;s Celebrate 5 Year Anniversary\, Sip &amp\; Shop</span></span></span></strong><br />\n&nbsp\;<br />\n<span style="color:#333333\;"><span style="font-family:trebuchet ms\,sans-serif\;"><span style="font-size:15.0pt\;">Grab your holiday shopping list\, be sure to check it twice\, for all your friends and family who have been naughty or nice!</span></span></span><br />\n&nbsp\;<br />\n<strong><span style="color:#333333\;"><span style="font-family:trebuchet ms\,sans-serif\;"><span style="font-size:15.0pt\;">Date: November 17<sup>th</sup></span></span></span><br />\n<span style="color:#333333\;"><span style="font-family:trebuchet ms\,sans-serif\;"><span style="font-size:15.0pt\;">Time: 5:30 to 7:30 PM</span></span></span></strong><br />\n<span style="color:#333333\;"><span style="font-family:trebuchet ms\,sans-serif\;"><span style="font-size:15.0pt\;"><strong>Location: 503 Main Street\, Windsor CO</strong></span></span></span><br />\n&nbsp\;<br />\n<span style="font-family: &quot\;trebuchet ms&quot\;\, sans-serif\;"><span style="font-size: 15pt\;">Come check out and enjoy some great products and have a refreshment or two.</span></span><br />\n&nbsp\;<br />\n<span style="color: rgb(46\, 47\, 47)\;"><span style="font-family: &quot\;trebuchet ms&quot\;\, sans-serif\;"><span style="font-size: 15pt\;">Bring a friend\, have some fun\, and let&nbsp\;</span></span></span><span style="color:#2E2F2F\;"><span style="font-family:trebuchet ms\,sans-serif\;"><span style="font-size:15.0pt\;">us get to know you</span></span></span><br />\n&nbsp\;
LOCATION:
UID:e.2900.4678
SEQUENCE:3
DTSTAMP:20260422T160934Z
URL:https://business.windsorchamber.net/events/details/aei-studio-and-gifts-sip-shop-4678
END:VEVENT

END:VCALENDAR
