BEGIN:VCALENDAR
VERSION:2.0
PRODID:-//ChamberMaster//Event Calendar 2.0//EN
METHOD:PUBLISH
X-PUBLISHED-TTL:P3D
REFRESH-INTERVAL:P3D
CALSCALE:GREGORIAN
BEGIN:VEVENT
DTSTART:20190417T000000Z
DTEND:20190417T010000Z
X-MICROSOFT-CDO-ALLDAYEVENT:FALSE
SUMMARY:ALLERGY AND ASTHMA CENTER OF THE ROCKIES’ FREE INFORMATIONAL
DESCRIPTION:You are invited to a FREE informational gathering. Many people are not sure what symtoms of allergies are. Asthma is under-recognized. As a former patient\, and now as a medical doctor\, Dr. Lanting would like to help those of you who are unsure about your symptoms so you can live a wonderful\, symptom-free life! Symptoms include: food\, allergy and insect allergies\, asthma\, cough\, nasal stuffiness\, ithchy eyes\, eczema\, breathing problems\, hives\, throat clearing\, migraines\, reflux and dermatitis. Let's talk about your concerns and have your questions answered!
X-ALT-DESC;FMTTYPE=text/html:You are invited to a FREE informational gathering. Many people are not sure what symtoms of allergies are. Asthma is under-recognized. As a former patient\, and now as a medical doctor\, Dr. Lanting would like to help those of you who are unsure about your symptoms so you can live a wonderful\, symptom-free life! Symptoms include: food\, allergy and insect allergies\, asthma\, cough\, nasal stuffiness\, ithchy eyes\, eczema\, breathing problems\, hives\, throat clearing\, migraines\, reflux and dermatitis. Let&rsquo\;s talk about your concerns and have your questions answered!
LOCATION:Allergy and Asthma Center of the Rockies 8223 W. 20th St.\, Suite B\, Greeley\, CO 80634
UID:e.2900.1593
SEQUENCE:3
DTSTAMP:20260423T180336Z
URL:https://business.windsorchamber.net/events/details/allergy-and-asthma-center-of-the-rockies-free-informational-1593
END:VEVENT

END:VCALENDAR
