BEGIN:VCALENDAR
VERSION:2.0
PRODID:-//ChamberMaster//Event Calendar 2.0//EN
METHOD:PUBLISH
X-PUBLISHED-TTL:P3D
REFRESH-INTERVAL:P3D
CALSCALE:GREGORIAN
BEGIN:VEVENT
DTSTART:20180710T180000Z
DTEND:20180710T190000Z
X-MICROSOFT-CDO-ALLDAYEVENT:FALSE
SUMMARY:Ambassador Meeting
DESCRIPTION:Plan to attend the Windsor Chamber monthly Ambassador Meeting. Great way to become involved in the Windsor Chamber.
X-ALT-DESC;FMTTYPE=text/html:Plan to attend the Windsor Chamber monthly Ambassador Meeting. Great way to become involved in the Windsor Chamber.
LOCATION:Windsor State Bank - 1130 Main Street
UID:e.2900.1493
SEQUENCE:3
DTSTAMP:20260424T063732Z
URL:https://business.windsorchamber.net/events/details/ambassador-meeting-1493
END:VEVENT

END:VCALENDAR
