BEGIN:VCALENDAR
VERSION:2.0
PRODID:-//ChamberMaster//Event Calendar 2.0//EN
METHOD:PUBLISH
X-PUBLISHED-TTL:P3D
REFRESH-INTERVAL:P3D
CALSCALE:GREGORIAN
BEGIN:VEVENT
DTSTART:20180807T180000Z
DTEND:20180807T190000Z
X-MICROSOFT-CDO-ALLDAYEVENT:FALSE
SUMMARY:AMBASSADOR MEETING
DESCRIPTION:If you interested in getting more involved in the Windsor Chamber\, please attend the Windsor Chamber Ambassador Group!.
X-ALT-DESC;FMTTYPE=text/html:If you interested in getting more involved in the Windsor Chamber\, please attend the Windsor Chamber Ambassador Group!.<br />\n&nbsp\;
LOCATION:Windsor State Bank - 1130 Main Street - Windsor\, CO
UID:e.2900.1497
SEQUENCE:3
DTSTAMP:20260424T052101Z
URL:https://business.windsorchamber.net/events/details/ambassador-meeting-1497
END:VEVENT

END:VCALENDAR
