BEGIN:VCALENDAR
VERSION:2.0
PRODID:-//ChamberMaster//Event Calendar 2.0//EN
METHOD:PUBLISH
X-PUBLISHED-TTL:P3D
REFRESH-INTERVAL:P3D
CALSCALE:GREGORIAN
BEGIN:VEVENT
DTSTART:20190108T190000Z
DTEND:20190108T200000Z
X-MICROSOFT-CDO-ALLDAYEVENT:FALSE
SUMMARY:Ambassador Meeting
DESCRIPTION:Ambassador Monthly Meeting - The Windsor Chamber Ambassador Members are an important part of our Chamber. They serve as greeters for our special events\, and Business After Hours and Networking at Noon.\n\nThis gives them an opportunity to meet other members and learnabout the different kinds of businesses in Windsor as well as them telling members about their business. \n\nWe meet every 1st Tuesday of the month at 12noon at Windsor State Bank - 1130 Main
X-ALT-DESC;FMTTYPE=text/html:Ambassador Monthly Meeting - The Windsor Chamber Ambassador Members are an important part of our Chamber. They serve as greeters for our special events\, and Business After Hours and Networking at Noon.<br />\nThis gives them an opportunity to meet other members and learnabout the different kinds of businesses in Windsor as well as them telling members about their business.&nbsp\;<br />\nWe meet every 1st Tuesday of the month at 12noon at Windsor State Bank - 1130 Main
LOCATION:Windsor State Bank - 1130 Main Street
UID:e.2900.1544
SEQUENCE:3
DTSTAMP:20260423T215716Z
URL:https://business.windsorchamber.net/events/details/ambassador-meeting-1544
END:VEVENT

END:VCALENDAR
