BEGIN:VCALENDAR
VERSION:2.0
PRODID:-//ChamberMaster//Event Calendar 2.0//EN
METHOD:PUBLISH
X-PUBLISHED-TTL:P3D
REFRESH-INTERVAL:P3D
CALSCALE:GREGORIAN
BEGIN:VEVENT
DTSTART:20190702T180000Z
DTEND:20190702T190000Z
X-MICROSOFT-CDO-ALLDAYEVENT:FALSE
SUMMARY:Ambassador Meeting & Networking - July 2019
DESCRIPTION:Ambassadors are invited to our monthly meeting! Bring your energy\, excitement and business cards! This meeting is fast-paced\, packed with info and features some networking time. A light lunch will be available.
X-ALT-DESC;FMTTYPE=text/html:Ambassadors are invited to our monthly meeting! Bring your energy\, excitement and business cards! This meeting is fast-paced\, packed with info and features some networking time. A light lunch will be available.
LOCATION:Windsor State Bank
UID:e.2900.1644
SEQUENCE:3
DTSTAMP:20260423T142123Z
URL:https://business.windsorchamber.net/events/details/ambassador-meeting-networking-july-2019-1644
END:VEVENT

END:VCALENDAR
