BEGIN:VCALENDAR
VERSION:2.0
PRODID:-//ChamberMaster//Event Calendar 2.0//EN
METHOD:PUBLISH
X-PUBLISHED-TTL:P3D
REFRESH-INTERVAL:P3D
CALSCALE:GREGORIAN
BEGIN:VEVENT
DTSTART:20190305T190000Z
DTEND:20190305T200000Z
X-MICROSOFT-CDO-ALLDAYEVENT:FALSE
SUMMARY:Ambassador Monthly Meeting
DESCRIPTION:Windsor Chamber of Commerce Ambassadors meeting monthly on the first Tuesday of each month.  Chamber Ambassadors are the backbone of the Chamber.  They meet and greet at different Windsor Chamber events and go and visit new businesses in town. Please join us and see what we are all about.
X-ALT-DESC;FMTTYPE=text/html:Windsor Chamber of Commerce Ambassadors meeting monthly on the first Tuesday of each month.&nbsp\; Chamber Ambassadors are the backbone of the Chamber.&nbsp\; They meet and greet at different Windsor Chamber events and go and visit new businesses in town. Please join us and see what we are all about.
LOCATION:Windsor State Bank 1130 Main Street
UID:e.2900.1575
SEQUENCE:3
DTSTAMP:20260423T190902Z
URL:https://business.windsorchamber.net/events/details/ambassador-monthly-meeting-1575
END:VEVENT

END:VCALENDAR
