BEGIN:VCALENDAR
VERSION:2.0
PRODID:-//ChamberMaster//Event Calendar 2.0//EN
METHOD:PUBLISH
X-PUBLISHED-TTL:P3D
REFRESH-INTERVAL:P3D
CALSCALE:GREGORIAN
BEGIN:VEVENT
DTSTART:20190507T180000Z
DTEND:20190507T190000Z
X-MICROSOFT-CDO-ALLDAYEVENT:FALSE
SUMMARY:Ambassador Monthly Meeting -
DESCRIPTION:Please join us at our monthly Ambassador Meeting.  Great committee to join to get to meet other Windsor Chamber Members. You will get to be the person that meets and greets the  members at  Chamber's Events. Come and see what we are all about.
X-ALT-DESC;FMTTYPE=text/html:Please join us at our monthly Ambassador Meeting.&nbsp\; Great committee to join to get to meet other Windsor Chamber Members. You will get to be the person that meets and greets the&nbsp\; members at&nbsp\; Chamber&#39\;s Events. Come and see what we are all about.<br />\n&nbsp\;
LOCATION:Windsor State Bank -1130 Main Street
UID:e.2900.1580
SEQUENCE:3
DTSTAMP:20260423T162933Z
URL:https://business.windsorchamber.net/events/details/ambassador-monthly-meeting-1580
END:VEVENT

END:VCALENDAR
