BEGIN:VCALENDAR
VERSION:2.0
PRODID:-//ChamberMaster//Event Calendar 2.0//EN
METHOD:PUBLISH
X-PUBLISHED-TTL:P3D
REFRESH-INTERVAL:P3D
CALSCALE:GREGORIAN
BEGIN:VEVENT
DTSTART:20181114T000000Z
DTEND:20181114T020000Z
X-MICROSOFT-CDO-ALLDAYEVENT:FALSE
SUMMARY:AMERICAN LEGION HOSTS BUSINESS AFTER HOURS
DESCRIPTION:You are invited to a Special Business After Hours Honoring "Veterans Day" at the American Legion in Windsor! It will be a great opportunity to network\, meet new people\, and honor the veterans that have served our country. You can also win prizes.\n\nPLEASE BRING A NON-PERISHABLE FOOD ITEM AND HELP THE WINDSOR FOOD PANTRY!\n\nThe Windsor Chamber is currently participating in a food drive for Thanksgiving for our Windsor Food Pantry.  We will have a collection box at the event food items that you bring.
X-ALT-DESC;FMTTYPE=text/html:<strong><span style="color: rgb(255\, 0\, 0)\;">You are invited to a Special Business After Hours Honoring &quot\;Veterans Day&quot\; at the American Legion in Windsor! It will be a great opportunity to network\, meet new people\, and honor the veterans that have served our country. You can also win prizes.<br />\n<u>PLEASE BRING A NON-PERISHABLE FOOD ITEM AND HELP THE WINDSOR FOOD PANTRY!</u><br />\nThe Windsor Chamber is currently participating in a food drive for Thanksgiving for our Windsor Food Pantry.&nbsp\; We will have a collection box at the event food items that you bring.</span></strong>
LOCATION:American Legion Post 109 - 627 Ash Street
UID:e.2900.1523
SEQUENCE:3
DTSTAMP:20260424T013137Z
URL:https://business.windsorchamber.net/events/details/american-legion-hosts-business-after-hours-1523
END:VEVENT

END:VCALENDAR
