BEGIN:VCALENDAR
VERSION:2.0
PRODID:-//ChamberMaster//Event Calendar 2.0//EN
METHOD:PUBLISH
X-PUBLISHED-TTL:P3D
REFRESH-INTERVAL:P3D
CALSCALE:GREGORIAN
BEGIN:VEVENT
DTSTART:20180814T160000Z
DTEND:20180814T163000Z
X-MICROSOFT-CDO-ALLDAYEVENT:FALSE
SUMMARY:AMERICAN NATIONAL INSURANCE RIBBON CUTTING
DESCRIPTION:Please attend the Ribbon Cutting for American National Insurance/ Andrew Guttersen .  Great time for you to meet our newest member of the Windsor Chamber and you can tell Andrew all about your business as well as you find out more about his business.
X-ALT-DESC;FMTTYPE=text/html:Please attend the Ribbon Cutting for American National Insurance/&nbsp\;Andrew Guttersen .&nbsp\; Great time for you to meet our newest member of the Windsor Chamber and you can tell Andrew all about your business as well as you find out more about his business.
LOCATION:American National Insurance - 4025 St. Cloud Drive - Suite 200
UID:e.2900.1498
SEQUENCE:3
DTSTAMP:20260424T041353Z
URL:https://business.windsorchamber.net/events/details/american-national-insurance-ribbon-cutting-1498
END:VEVENT

END:VCALENDAR
