BEGIN:VCALENDAR
VERSION:2.0
PRODID:-//ChamberMaster//Event Calendar 2.0//EN
METHOD:PUBLISH
X-PUBLISHED-TTL:P3D
REFRESH-INTERVAL:P3D
CALSCALE:GREGORIAN
BEGIN:VEVENT
DTSTART:20170607T003000Z
DTEND:20170607T013000Z
X-MICROSOFT-CDO-ALLDAYEVENT:FALSE
SUMMARY:BEER HERE! COLORADO HISTORY WITH A BEER IN HAND
DESCRIPTION:Our Summer Adventure Program Kick-Off for adults! Local beers have been a staple of Colorado culture since 1859. Join Deputy State Historian Jason Hanson in the hop garden at High Hops Brewery as he discusses the fascinating history of beer in our great state. Adults can sign up for our Summer Adventure Program at the brewery. Registration is not required.
X-ALT-DESC;FMTTYPE=text/html:Our Summer Adventure Program Kick-Off for adults! Local beers have been a staple of Colorado culture since 1859. Join Deputy State Historian Jason Hanson in the hop garden at High Hops Brewery as he discusses the fascinating history of beer in our great state. Adults can sign up for our Summer Adventure Program at the brewery. Registration is not required.
LOCATION:High Hops Brewery\, 6461 CO-392 Windsor\, CO 80550
UID:e.2900.61
SEQUENCE:3
DTSTAMP:20260425T005510Z
URL:https://business.windsorchamber.net/events/details/beer-here-colorado-history-with-a-beer-in-hand-61
END:VEVENT

END:VCALENDAR
