BEGIN:VCALENDAR
VERSION:2.0
PRODID:-//ChamberMaster//Event Calendar 2.0//EN
METHOD:PUBLISH
X-PUBLISHED-TTL:P3D
REFRESH-INTERVAL:P3D
CALSCALE:GREGORIAN
BEGIN:VEVENT
DTSTART:20180713T134500Z
DTEND:20180713T150000Z
X-MICROSOFT-CDO-ALLDAYEVENT:FALSE
SUMMARY:Beyond Banking/Community Banks of Colorado
DESCRIPTION:During any typical workday\, most people spend a geat deal of time focusing on what's wrong...Remember that "group think"  begins with "leader think".  At its core\, an organization strongly reflects how its leader thinks\, feels\, and acts. Heather Clark-Peckerman to facilitate  and help you learn how to set the tone and energy while leading a team. "Energy Leadership" Breakfst and a time for relationship building will be included. Feel Free to bring a guest!
X-ALT-DESC;FMTTYPE=text/html:During any typical workday\, most people spend a geat deal of time focusing on what&#39\;s wrong...Remember that &quot\;group think&quot\;&nbsp\; begins with &quot\;leader think&quot\;.&nbsp\; At its core\, an organization strongly reflects how its leader thinks\, feels\, and acts. Heather Clark-Peckerman to facilitate&nbsp\; and help you learn how to set the tone and energy while leading a team. &quot\;Energy Leadership&quot\; Breakfst and a time for relationship building will be included. Feel Free to bring a guest!
LOCATION:Community Banks of Colorado - 3780 West 10th Street - Greeley \, CO
UID:e.2900.1495
SEQUENCE:3
DTSTAMP:20260424T053236Z
URL:https://business.windsorchamber.net/events/details/beyond-banking-community-banks-of-colorado-1495
END:VEVENT

END:VCALENDAR
