BEGIN:VCALENDAR
VERSION:2.0
PRODID:-//ChamberMaster//Event Calendar 2.0//EN
METHOD:PUBLISH
X-PUBLISHED-TTL:P3D
REFRESH-INTERVAL:P3D
CALSCALE:GREGORIAN
BEGIN:VEVENT
DTSTART:20190212T143000Z
DTEND:20190212T160000Z
X-MICROSOFT-CDO-ALLDAYEVENT:FALSE
SUMMARY:Beyond Banking for Business presented by Community Banks of Colorado
DESCRIPTION:Speaker: David Wilkinson\, The Global Equipping Centre\n\nDuring this presentation\, you'll get the chance to network with other local business owners and hear a dynamic presentation about the secrets of high-level networking executives.  Topics include networking like a millionaire and broadening you inncer circle\, how networking affects our net work\, discovering additional opportunities outside of traditional networking\, and expanding your personal prospect list with proven results.
X-ALT-DESC;FMTTYPE=text/html:<br />\nSpeaker: David Wilkinson\, The Global Equipping Centre<br />\nDuring this presentation\, you&#39\;ll get the chance to network with other local business owners and hear a dynamic presentation about the secrets of high-level networking executives.&nbsp\; Topics include networking like a millionaire and broadening you inncer circle\, how networking affects our net work\, discovering additional opportunities outside of traditional networking\, and expanding your personal prospect list with proven results.
LOCATION:Community Bank of Colorado 3780 W. 10th Street Greeley\, CO
UID:e.2900.1573
SEQUENCE:3
DTSTAMP:20260424T130615Z
URL:https://business.windsorchamber.net/events/details/beyond-banking-for-business-presented-by-community-banks-of-colorado-1573
END:VEVENT

END:VCALENDAR
