BEGIN:VCALENDAR
VERSION:2.0
PRODID:-//ChamberMaster//Event Calendar 2.0//EN
METHOD:PUBLISH
X-PUBLISHED-TTL:P3D
REFRESH-INTERVAL:P3D
CALSCALE:GREGORIAN
BEGIN:VEVENT
DTSTART:20170628T120000Z
DTEND:20170628T140000Z
X-MICROSOFT-CDO-ALLDAYEVENT:FALSE
SUMMARY:Bike to Work Day
DESCRIPTION:A breakfast station will be provided from 6am to 8am at SPOKES BIKE SHOP\,  427 Main Street.  Fresh fruit\, breakfast burritos\, granola bars and other snacks will be available.\n\n\n\n"BIKE TO WORK DAY" PARTICIPANTS WHO TAG THEMSELVES ON SOCIAL MEDIA WITH #BIKEWINDSOR WILL BE ENTERED TO WIN A PRIZE PACK FROM SPOKES AND THE TOWN OF WINDSOR.
X-ALT-DESC;FMTTYPE=text/html:A breakfast station will be provided from 6am to 8am at <span style="color: rgb(255\, 0\, 0)\;">SPOKES BIKE SHOP</span>\,&nbsp\; 427 Main Street.&nbsp\; Fresh fruit\, breakfast burritos\, granola bars and other snacks will be available.<br />\n<br />\n&quot\;BIKE TO WORK DAY&quot\; PARTICIPANTS WHO TAG THEMSELVES ON SOCIAL MEDIA WITH #BIKEWINDSOR WILL BE ENTERED TO WIN A PRIZE PACK FROM SPOKES AND THE TOWN OF WINDSOR.
LOCATION:Spokes Bike Shop - 427 Main Street - Windsor\, CO
UID:e.2900.70
SEQUENCE:3
DTSTAMP:20260425T004613Z
URL:https://business.windsorchamber.net/events/details/bike-to-work-day-70
END:VEVENT

END:VCALENDAR
