BEGIN:VCALENDAR
VERSION:2.0
PRODID:-//ChamberMaster//Event Calendar 2.0//EN
METHOD:PUBLISH
X-PUBLISHED-TTL:P3D
REFRESH-INTERVAL:P3D
CALSCALE:GREGORIAN
BEGIN:VEVENT
DTSTART:20201120T010000Z
DTEND:20201120T030000Z
X-MICROSOFT-CDO-ALLDAYEVENT:FALSE
SUMMARY:Blackbirds Holiday Private Shopping Parties!
DESCRIPTION:Create A Party from 6-8pm for an exclusive group!\n\n\n\nSign up with your friends and family\, or alone .as soon as we have 12 shoppers\, we will close the registration for that night.\n\n\n\nOnly 12 shoppers at a time in our 2000 square foot store.  \n\n\n\nRefreshments will be served\n\n\n\nGiftwrap will be available\n\n\n\nA Door prize will be given at each party\n\n\n\nWhat is more fun than a Shopping Party at Christmastime
X-ALT-DESC;FMTTYPE=text/html:<span style="font-size:14.0pt\;">Create A Party from 6-8pm for an exclusive group!</span><br />\n<br />\n<span style="font-size:14.0pt\;">Sign up with your friends and family\, or alone&hellip\;.as soon as we have 12 shoppers\, we will close the registration for that night.</span><br />\n<br />\n<span style="font-size:14.0pt\;">Only 12 shoppers at a time in our 2000 square foot store.&nbsp\; </span><br />\n<br />\n<span style="font-size:14.0pt\;">Refreshments will be served</span><br />\n<br />\n<span style="font-size:14.0pt\;">Giftwrap will be available</span><br />\n<br />\n<span style="font-size:14.0pt\;">A Door prize will be given at each party</span><br />\n<br />\n<span style="font-size:14.0pt\;">What is more fun than a Shopping Party at Christmastime</span>
LOCATION:
UID:e.2900.4673
SEQUENCE:3
DTSTAMP:20260422T160939Z
URL:https://business.windsorchamber.net/events/details/blackbirds-holiday-private-shopping-parties-4673
END:VEVENT

END:VCALENDAR
