BEGIN:VCALENDAR
VERSION:2.0
PRODID:-//ChamberMaster//Event Calendar 2.0//EN
METHOD:PUBLISH
X-PUBLISHED-TTL:P3D
REFRESH-INTERVAL:P3D
CALSCALE:GREGORIAN
BEGIN:VEVENT
DTSTART:20200913T000000Z
DTEND:20200913T010000Z
X-MICROSOFT-CDO-ALLDAYEVENT:FALSE
SUMMARY:Boys & Girls Clubs of Weld County's Virtual Elegant Night
DESCRIPTION:On September 12th\, virtually attend Greeley's largest fundraiser of the year for the youth of Weld County for the first-ever livestream of the event! Going on 39 years in the making\, this event has been vital to the organization's ability to better serve Weld County's youth. Now more than ever\, we need your support in transitioning this event virtually\, for those who need us most. It will feature a cocktail session with Tower 56\, silent & live auction items\, comments from our Youth of the Year and our 2020 Champion of Youth honoree\, Petroleum Development Corporation\, and more\, all at https://bgcweld.org/elegantnight/.    We encourage you to register for this free event in order to receive notifications on our auction items and other great opportunities prior to the evening.   If you are unable to attend this event but would still like to support our important mission\, you can do so at https://bgcweld.org/elegantnight/\, even after the event has ended! Your generous gift will be included in the Elegant Night tally and we will be sure to celebrate your gift with those from others in attendance.   We hope you can join us!
X-ALT-DESC;FMTTYPE=text/html:On September 12th\, virtually attend Greeley&rsquo\;s largest fundraiser of the year for the youth of Weld County for the first-ever livestream of the event! Going on 39 years in the making\, this event has been vital to the organization&#39\;s ability to better serve Weld County&#39\;s youth. Now more than ever\, we need your support in transitioning this event virtually\, for those who need us most. It will feature a cocktail session with Tower 56\, silent &amp\; live auction items\, comments from our Youth of the Year and our 2020 Champion of Youth honoree\, Petroleum Development Corporation\, and more\, all at https://bgcweld.org/elegantnight/. &nbsp\;&nbsp\; We encourage you to register for this free event in order to receive notifications on our auction items and other great opportunities prior to the evening. &nbsp\; If you are unable to attend this event but would still like to support our important mission\, you can do so at https://bgcweld.org/elegantnight/\, even after the event has ended! Your generous gift will be included in the Elegant Night tally and we will be sure to celebrate your gift with those from others in attendance. &nbsp\; We hope you can join us!
LOCATION:Virtual event at: https://bgcweld.org/elegantnight/
UID:e.2900.4288
SEQUENCE:3
DTSTAMP:20260422T185615Z
URL:https://business.windsorchamber.net/events/details/boys-girls-clubs-of-weld-county-s-virtual-elegant-night-4288
END:VEVENT

END:VCALENDAR
