BEGIN:VCALENDAR
VERSION:2.0
PRODID:-//ChamberMaster//Event Calendar 2.0//EN
METHOD:PUBLISH
X-PUBLISHED-TTL:P3D
REFRESH-INTERVAL:P3D
CALSCALE:GREGORIAN
BEGIN:VEVENT
DTSTART:20180815T180000Z
DTEND:20180815T190000Z
X-MICROSOFT-CDO-ALLDAYEVENT:FALSE
SUMMARY:BRICKHOUSE FUNCTIONAL FITNESS hosts Networking at Noon
DESCRIPTION:Mark your calendar's now to attend the August Networking@Noon at Brickhouse Functional Fitness.  BFF offers all the classes of typical Fitness Facility plus so much more.  Join us for lunch and learn about the different classes & programs avialble at BFF including Nutrional Fitness\, Youth Fitness\, Brick Barre\, and even Mama Fit for expectant mothers. This is truely an amazing facility.  We hope you can join us for this "Get Fit" Networking@Noon.  \nBrickhouse Functional Fitness is Windsor's Premier Fitness Facility. We offer high energy group classes including Functional Training\, Indoor Cycling\, Barre Fitness\, Strength and personal training\, Youth Fitness and other special programs. We pride ourselves on a fun environment\, where everyone gets to know each other. We are a locally owned and family centered business focused on helping you achieve your fitness goals. At Brickhouse\, we believe in creating community through fitness!
X-ALT-DESC;FMTTYPE=text/html:<span style="font-size:14px\;">Mark your calendar&#39\;s now to attend the August Networking@Noon at Brickhouse Functional Fitness.&nbsp\; BFF offers all the classes of typical Fitness Facility plus so much more.&nbsp\; Join us for lunch and learn about the different classes &amp\; programs avialble at BFF including Nutrional Fitness\, Youth Fitness\, Brick Barre\, and even Mama Fit for expectant mothers. This is truely an amazing facility.&nbsp\; We hope you can join us for this &quot\;Get Fit&quot\; Networking@Noon.&nbsp\;&nbsp\;</span>\n<h2 class="mk-fancy-title align-center  simple-style  color-single" id="fancy-title-8"><span style="font-size:14px\;">Brickhouse Functional Fitness is Windsor&rsquo\;s Premier Fitness Facility. We offer high energy group classes including Functional Training\, Indoor Cycling\, Barre Fitness\, Strength and personal training\, Youth Fitness and other special programs. We pride ourselves on a fun environment\, where everyone gets to know each other. We are a locally owned and family centered business focused on helping you achieve your fitness goals. At Brickhouse\, we believe in creating community through fitness!&nbsp\; &nbsp\;</span></h2>\n
LOCATION:Brickhouse Fitness - 1111 Diamond Valley Drive
UID:e.2900.492
SEQUENCE:3
DTSTAMP:20260424T041224Z
URL:https://business.windsorchamber.net/events/details/brickhouse-functional-fitness-hosts-networking-at-noon-492
END:VEVENT

END:VCALENDAR
