BEGIN:VCALENDAR
VERSION:2.0
PRODID:-//ChamberMaster//Event Calendar 2.0//EN
METHOD:PUBLISH
X-PUBLISHED-TTL:P3D
REFRESH-INTERVAL:P3D
CALSCALE:GREGORIAN
BEGIN:VEVENT
DTSTART:20170530T200000Z
DTEND:20170530T220000Z
X-MICROSOFT-CDO-ALLDAYEVENT:FALSE
SUMMARY:Build Your Own Adventure! (Summer Adventure Program kickoff)
DESCRIPTION:Let the adventures begin! Join us for cool crafts and activities including creating a delicious food necklace\, build your own playground\, and an awesome inflatable planetarium! All ages are welcome. Registration not required.
X-ALT-DESC;FMTTYPE=text/html:Let the adventures begin! Join us for cool crafts and activities including creating a delicious food necklace\, build your own playground\, and an awesome inflatable planetarium! All ages are welcome. Registration not required.
LOCATION:Windsor-Severance Library\, 720 3rd Street\, Windsor\, CO 80550
UID:e.2900.59
SEQUENCE:3
DTSTAMP:20260425T021053Z
URL:https://business.windsorchamber.net/events/details/build-your-own-adventure-summer-adventure-program-kickoff-59
END:VEVENT

END:VCALENDAR
