BEGIN:VCALENDAR
VERSION:2.0
PRODID:-//ChamberMaster//Event Calendar 2.0//EN
METHOD:PUBLISH
X-PUBLISHED-TTL:P3D
REFRESH-INTERVAL:P3D
CALSCALE:GREGORIAN
BEGIN:VEVENT
DTSTART:20191121T000000Z
DTEND:20191121T010000Z
X-MICROSOFT-CDO-ALLDAYEVENT:FALSE
SUMMARY:Business After Hours at Toast
DESCRIPTION:Let's toast at Toast for the new Business After Hours hosted by Toast and the Windsor Chamber. Join us for one-hour of networking\, a raffle and great conversations.
X-ALT-DESC;FMTTYPE=text/html:Let&#39\;s toast at Toast for the new Business After Hours hosted by Toast and the Windsor Chamber. Join us for one-hour of networking\, a raffle and great conversations.
LOCATION:
UID:e.2900.3285
SEQUENCE:3
DTSTAMP:20260422T185437Z
URL:https://business.windsorchamber.net/events/details/business-after-hours-at-toast-3285
END:VEVENT

END:VCALENDAR
