BEGIN:VCALENDAR
VERSION:2.0
PRODID:-//ChamberMaster//Event Calendar 2.0//EN
METHOD:PUBLISH
X-PUBLISHED-TTL:P3D
REFRESH-INTERVAL:P3D
CALSCALE:GREGORIAN
BEGIN:VEVENT
DTSTART:20260514T230000Z
DTEND:20260515T010000Z
X-MICROSOFT-CDO-ALLDAYEVENT:FALSE
SUMMARY:Business After Hours hosted by Bank of Colorado
DESCRIPTION:Bank of Colorado is hosting a Business After Hours!\n\n\n\nJoin us for Business After Hours to connect\, collaborate\, and unwind with fellow professionals in a relaxed setting. Enjoy refreshments\, great conversation\, and a chance to grow your network in a casual\, after-hours atmosphere. \n\n\n\nWe are the hub of the Northern Colorado community\, this is where connections come together. Be part of it.\n\n\n\nBank of Colorado is a influential part of the Windsor Chamber and can be seen represented as Ambassadors\, at our ribbon cuttings\, and often in our office. They are part of the Windsor Community as active members of the Rotary Club\, NOCO Unify\, and more. \n\nBryan Guest joined as the Market President this year and serves on the Board of the Boys and Girls Club of Weld County. \n\n\n\nBank of Colorado has over 40 locations across Colorado and is one of the oldest banks in the state. In 1900\, Fort Lupton opened the first location.\n\n\n\nWant to host a Business After Hours? Our Momentum-level and higher members can also host a Business After Hours.
X-ALT-DESC;FMTTYPE=text/html:Bank of Colorado is hosting a Business After Hours!<br />\n<br />\nJoin us for Business After Hours to connect\, collaborate\, and unwind with fellow professionals in a relaxed setting. Enjoy refreshments\, great conversation\, and a chance to grow your network in a casual\, after-hours atmosphere.&nbsp\;<br />\n<br />\nWe are the hub of the Northern Colorado community\, this is where connections come together. Be part of it.<br />\n<br />\nBank of Colorado is a influential part of the Windsor Chamber and can be seen represented as Ambassadors\, at our ribbon cuttings\, and often in our office. They are part of the Windsor Community as active members of the Rotary Club\, NOCO Unify\, and more.&nbsp\;<br />\nBryan Guest joined as the Market President this year and serves on the Board of the Boys and Girls Club of Weld County.&nbsp\;<br />\n<br />\nBank of Colorado has over 40 locations across Colorado and is one of the oldest banks in the state. In 1900\, Fort Lupton opened the first location.<br />\n<br />\nWant to host a Business After Hours? Our Momentum-level and higher members can also host a Business After Hours.
LOCATION:Bank of Colorado 1041 Main St. Windsor\, CO
UID:e.2900.16129
SEQUENCE:3
DTSTAMP:20260422T210727Z
URL:https://business.windsorchamber.net/events/details/business-after-hours-hosted-by-bank-of-colorado-16129
END:VEVENT

END:VCALENDAR
