BEGIN:VCALENDAR
VERSION:2.0
PRODID:-//ChamberMaster//Event Calendar 2.0//EN
METHOD:PUBLISH
X-PUBLISHED-TTL:P3D
REFRESH-INTERVAL:P3D
CALSCALE:GREGORIAN
BEGIN:VEVENT
DTSTART:20180717T230000Z
DTEND:20180718T010000Z
X-MICROSOFT-CDO-ALLDAYEVENT:FALSE
SUMMARY:Business After Hours- Windsor State Bank
DESCRIPTION:Windsor State Bank will be hosting July 's Business After Hours.  Great time for you to bring your Business Cards and network with other Windsor Chamber Members. Networking is the name of the game!
X-ALT-DESC;FMTTYPE=text/html:Windsor State Bank will be hosting July &#39\;s Business After Hours.&nbsp\; Great time for you to bring your Business Cards and network with other Windsor Chamber Members. Networking is the name of the game!
LOCATION:Windsor State Bank - 1130 Main Street
UID:e.2900.491
SEQUENCE:3
DTSTAMP:20260424T052225Z
URL:https://business.windsorchamber.net/events/details/business-after-hours-windsor-state-bank-491
END:VEVENT

END:VCALENDAR
