BEGIN:VCALENDAR
VERSION:2.0
PRODID:-//ChamberMaster//Event Calendar 2.0//EN
METHOD:PUBLISH
X-PUBLISHED-TTL:P3D
REFRESH-INTERVAL:P3D
CALSCALE:GREGORIAN
BEGIN:VEVENT
DTSTART:20190625T180000Z
DTEND:20190625T190000Z
X-MICROSOFT-CDO-ALLDAYEVENT:FALSE
SUMMARY:Business Community Focus Group #3
DESCRIPTION:The Windsor Chamber will be hosting a Focus Group discussion about the future of the Chamber and its role in the local business community. Anyone is business is invited to attend and participate.
X-ALT-DESC;FMTTYPE=text/html:The Windsor Chamber will be hosting a Focus Group discussion about the future of the Chamber and its role in the local business community. Anyone is business is invited to attend and participate.&nbsp\;
LOCATION:Clearview Library District - Windsor
UID:e.2900.1636
SEQUENCE:3
DTSTAMP:20260423T012926Z
URL:https://business.windsorchamber.net/events/details/business-community-focus-group-3-1636
END:VEVENT

END:VCALENDAR
