BEGIN:VCALENDAR
VERSION:2.0
PRODID:-//ChamberMaster//Event Calendar 2.0//EN
METHOD:PUBLISH
X-PUBLISHED-TTL:P3D
REFRESH-INTERVAL:P3D
CALSCALE:GREGORIAN
BEGIN:VEVENT
DTSTART:20180925T173000Z
DTEND:20180925T193000Z
X-MICROSOFT-CDO-ALLDAYEVENT:FALSE
SUMMARY:Business Succession Planning Seminar
DESCRIPTION:Looking to leave a business and move on to the next chapter of you life? How do I know if I have enough money for retirement after I sell my business? How much can I sell my business for in today's market? When is the right timeto sell my business? What are the trends in Northern Colordado demographics? How do i transition my business to my children?
X-ALT-DESC;FMTTYPE=text/html:Looking to leave a business and move on to the next chapter of you life? How do I know if I have enough money for retirement after I sell my business? How much can I sell my business for in today&#39\;s market? When is the right timeto sell my business? What are the trends in Northern Colordado demographics? How do i transition my business to my children?
LOCATION:Windsor Recreation Center - 250 N. 11th Street
UID:e.2900.1518
SEQUENCE:3
DTSTAMP:20260424T025137Z
URL:https://business.windsorchamber.net/events/details/business-succession-planning-seminar-1518
END:VEVENT

END:VCALENDAR
