BEGIN:VCALENDAR
VERSION:2.0
PRODID:-//ChamberMaster//Event Calendar 2.0//EN
METHOD:PUBLISH
X-PUBLISHED-TTL:P3D
REFRESH-INTERVAL:P3D
CALSCALE:GREGORIAN
BEGIN:VEVENT
DTSTART:20181018T220000Z
DTEND:20181019T020000Z
X-MICROSOFT-CDO-ALLDAYEVENT:FALSE
SUMMARY:C4 Yourself - Smart Home Applications
DESCRIPTION:What is it like to live in a truly smart home? Join us to #C4Yourself. Thursday\, October 18 from 4 p.m. - 8 p.m. Imagine this. A simple voice command arms the alarm and locks the doors on your way out to work. A quick tap puts your house to bed\, rolling back the temperature\, closing the shades\, and turning off the lights. The phone in your pocket tells you when the kids are home and ensures that the garage is closed. This is living the smart life with Control4. On October 18\, enjoy an evening in our showroom to get a taste of how smart technology is changing the way we live in our homes. We'll show you firsthand how automation can be personalized to the needs and desires of any individual or family. Our professionals will demonstrate how Control4 solutions deliver orchestrated smart home experiences that make homes safer\, more convenient\, comfortable\, and enjoyable. Bring your friends and family. RSVP: https://www.control4.com/local/c4yourself?dealer=IMA907&location=2 Visit us at: 4265 Greenfield Dr. Windsor\, CO. 80550
X-ALT-DESC;FMTTYPE=text/html:What is it like to live in a truly smart home? Join us to #C4Yourself. Thursday\, October 18 from 4 p.m. - 8 p.m. Imagine this. A simple voice command arms the alarm and locks the doors on your way out to work. A quick tap puts your house to bed\, rolling back the temperature\, closing the shades\, and turning off the lights. The phone in your pocket tells you when the kids are home and ensures that the garage is closed. This is living the smart life with Control4. On October 18\, enjoy an evening in our showroom to get a taste of how smart technology is changing the way we live in our homes. We&rsquo\;ll show you firsthand how automation can be personalized to the needs and desires of any individual or family. Our professionals will demonstrate how Control4 solutions deliver orchestrated smart home experiences that make homes safer\, more convenient\, comfortable\, and enjoyable. Bring your friends and family. RSVP: https://www.control4.com/local/c4yourself?dealer=IMA907&amp\;location=2 Visit us at: 4265 Greenfield Dr. Windsor\, CO. 80550
LOCATION:4265 Greenfield Dr. Windsor\, CO. 80550
UID:e.2900.1522
SEQUENCE:3
DTSTAMP:20260424T012933Z
URL:https://business.windsorchamber.net/events/details/c4-yourself-smart-home-applications-1522
END:VEVENT

END:VCALENDAR
