BEGIN:VCALENDAR
VERSION:2.0
PRODID:-//ChamberMaster//Event Calendar 2.0//EN
METHOD:PUBLISH
X-PUBLISHED-TTL:P3D
REFRESH-INTERVAL:P3D
CALSCALE:GREGORIAN
BEGIN:VEVENT
DTSTART:20200326T223000Z
DTEND:20200327T003000Z
X-MICROSOFT-CDO-ALLDAYEVENT:FALSE
SUMMARY:Canceled Until Further Notice Due To COVID-19: Ribbon Cutting: Canvas Credit Union
DESCRIPTION:Join us for a big celebration for Canvas Credit Union. Starting with a Ribbon Cutting and continuing with an Open House and Business After-hours networking. Arrive by 4:30 pm to be included in the Ribbon Cutting. Join us at 5:00 PM for food\, drinks and fun for an Open House and Business After hours hosted by Canvas Credit Union.
X-ALT-DESC;FMTTYPE=text/html:Join us for a big celebration for Canvas Credit Union. Starting with a Ribbon Cutting and continuing with an Open House and Business After-hours networking. Arrive by 4:30 pm to be included in the Ribbon Cutting. Join us at 5:00 PM for food\, drinks and fun for an Open House and Business After hours hosted by Canvas Credit Union.
LOCATION:New location on Main Street just east of Safeway (not in downtown).
UID:e.2900.3430
SEQUENCE:3
DTSTAMP:20260423T033603Z
URL:https://business.windsorchamber.net/events/details/canceled-until-further-notice-due-to-covid-19-ribbon-cutting-canvas-credit-union-3430
END:VEVENT

END:VCALENDAR
