BEGIN:VCALENDAR
VERSION:2.0
PRODID:-//ChamberMaster//Event Calendar 2.0//EN
METHOD:PUBLISH
X-PUBLISHED-TTL:P3D
REFRESH-INTERVAL:P3D
CALSCALE:GREGORIAN
BEGIN:VEVENT
DTSTART:20200317T233000Z
DTEND:20200318T013000Z
X-MICROSOFT-CDO-ALLDAYEVENT:FALSE
SUMMARY:CANCELLED: 3/17 - Meet the Candidates for Mayor & Town Board
DESCRIPTION:EVENT CANCELLED\n\n\n\nJoin the Windsor Chamber\, League of Women Voters (Weld County & Greeley) and the Clearview Library District for a Meet the Candidates for Mayor & Town Board event.\n\n\n\nOur collective intention is the support the discussion of community issues\, allow citizens of Windsor to hear directly from candidates for office and create open dialog among all voters in Windsor. Register to Vote here. \n\n\n\nMeet the Candidates Format: All participating candidates will adhere to the rules established in advance. The event will be moderated. Questions will be designed from a community wide survey. Written questions will be accepted from the audience. \n\n\n\nPlease join us and hear from the following candidates for Windsor Town Board:\nMayor:\n\nPaul Rennemeyer\n\nHunter Rivera\n\nDavid Sislowski\n\nDistrict 1:\n\nScott Charpentier\n\nDistrict 3:\n\nKen Bennett (incumbent)    \n\nDistrict 5:\n\nVictor Tallon
X-ALT-DESC;FMTTYPE=text/html:EVENT CANCELLED<br />\n<br />\nJoin the Windsor Chamber\, League of Women Voters (Weld County &amp\; Greeley) and the Clearview Library District for a Meet the Candidates for Mayor &amp\; Town Board event.<br />\n<br />\nOur collective intention is the support the discussion of community issues\, allow citizens of Windsor to hear directly from candidates for office and create open dialog among all voters in Windsor. Register to Vote <a href="https://www.sos.state.co.us/pubs/elections/vote/VoterHome.html?menuheaders=5">here</a>.&nbsp\;<br />\n<br />\nMeet the Candidates Format: All participating candidates will adhere to the rules established in advance. The event will be moderated. Questions will be designed from a community wide survey. Written questions will be accepted from the audience.&nbsp\;<br />\n<br />\nPlease join us and hear from the following candidates for Windsor Town Board:\n<p color:="" new="" times=""><u><strong>Mayor:</strong></u><br />\nPaul Rennemeyer<br />\nHunter Rivera<br />\nDavid Sislowski</p>\n\n<p color:="" min-height:="" new="" times=""><u><strong>District 1:</strong></u><br />\nScott Charpentier</p>\n\n<p color:="" new="" times=""><u><strong>District 3:</strong></u><br />\nKen Bennett&nbsp\;(incumbent)&nbsp\;&nbsp\; &nbsp\;</p>\n\n<p color:="" min-height:="" new="" times=""><u><strong>District 5:</strong></u><br />\nVictor Tallon</p>\n
LOCATION:Windsor Community Center 250 11th St\, Windsor
UID:e.2900.3422
SEQUENCE:3
DTSTAMP:20260423T033511Z
URL:https://business.windsorchamber.net/events/details/cancelled-3-17-meet-the-candidates-for-mayor-town-board-3422
END:VEVENT

END:VCALENDAR
