BEGIN:VCALENDAR
VERSION:2.0
PRODID:-//ChamberMaster//Event Calendar 2.0//EN
METHOD:PUBLISH
X-PUBLISHED-TTL:P3D
REFRESH-INTERVAL:P3D
CALSCALE:GREGORIAN
BEGIN:VEVENT
DTSTART:20180925T170000Z
DTEND:20180925T183000Z
X-MICROSOFT-CDO-ALLDAYEVENT:FALSE
SUMMARY:CANCELLED********Ground Breaking Ceremony for Canvas Credit Union
DESCRIPTION:Please attend the Groundbreaking for Canvas Credit Union.
X-ALT-DESC;FMTTYPE=text/html:Please attend the Groundbreaking for Canvas Credit Union.
LOCATION:West of Safeway Center.
UID:e.2900.1512
SEQUENCE:3
DTSTAMP:20260424T024517Z
URL:https://business.windsorchamber.net/events/details/cancelled-ground-breaking-ceremony-for-canvas-credit-union-1512
END:VEVENT

END:VCALENDAR
