BEGIN:VCALENDAR
VERSION:2.0
PRODID:-//ChamberMaster//Event Calendar 2.0//EN
METHOD:PUBLISH
X-PUBLISHED-TTL:P3D
REFRESH-INTERVAL:P3D
CALSCALE:GREGORIAN
BEGIN:VEVENT
DTSTART:20190313T220000Z
DTEND:20190314T003000Z
X-MICROSOFT-CDO-ALLDAYEVENT:FALSE
SUMMARY:CDOT Open House: Work Are Network Study
DESCRIPTION:The Colorado Department of Transportation is hosting an open house on Wednesday\, March 13\, 4 to 6:30pm at the Windsor-Severance Fire Station #1\, 100 N. 7th St  The open house will serve as an opportunity to learn more about CDOT's area network study and for residents and businesses to voice their opinions on ways CDOT area network study and for residents and business to voice their opionions on ways CDOT enance overall safety\, regional connectivity and economic vitality as it relates to the region's highways. In Windsor\, both Highways 257 and 392 are owned and maintained by CDOT and they overlap for a mile. During the study\, DCOT will explore suitable opportunities to exchange portions of either highway for parallel city and county roads.  New feasible alighments may be considered.  If interested in theis topic\, please consider attending the meeting.
X-ALT-DESC;FMTTYPE=text/html:The Colorado Department of Transportation is hosting an open house on Wednesday\, March 13\, 4 to 6:30pm at the Windsor-Severance Fire Station #1\, 100 N. 7th St&nbsp\; The open house will serve as an opportunity to learn more about CDOT&#39\;s area network study and for residents and businesses to voice their opinions on ways CDOT area network study and for residents and business to voice their opionions on ways CDOT enance overall safety\, regional connectivity and economic vitality as it relates to the region&#39\;s highways. In Windsor\, both Highways 257 and 392 are owned and maintained by CDOT and they overlap for a mile. During the study\, DCOT will explore suitable opportunities to exchange portions of either highway for parallel city and county roads.&nbsp\; New feasible alighments may be considered.&nbsp\; If interested in theis topic\, please consider attending the meeting.
LOCATION:Windsor Severance Fire Station #1 - 100 N. 7th Street
UID:e.2900.1585
SEQUENCE:3
DTSTAMP:20260423T190609Z
URL:https://business.windsorchamber.net/events/details/cdot-open-house-work-are-network-study-1585
END:VEVENT

END:VCALENDAR
