BEGIN:VCALENDAR
VERSION:2.0
PRODID:-//ChamberMaster//Event Calendar 2.0//EN
METHOD:PUBLISH
X-PUBLISHED-TTL:P3D
REFRESH-INTERVAL:P3D
CALSCALE:GREGORIAN
BEGIN:VEVENT
DTSTART:20210504T220000Z
DTEND:20210505T000000Z
X-MICROSOFT-CDO-ALLDAYEVENT:FALSE
SUMMARY:Celebrate Sisu Therapies One Year Anniversary
DESCRIPTION:Let's Celebrate Sisu Therapies One Year Anniversary\n\n \n\nThe Windsor Area Chamber of Commerce cordially invites you to Sisu Therapies One Year Anniversary Celebration.\n\n \n\nDate: May 4th  \n\nTime: 4:00 PM to 6:00 PM\, Certificate Presentation   4:30 PM\n\nLocation: 1230 E Ash St\, Windsor Co\n\n \n\nThe event will include light snacks\, and beverages compliments of Sisu Therapies. Although the Open House is a free event\, you are required to register so the Chamber has an accurate count of guests for food and drinks.
X-ALT-DESC;FMTTYPE=text/html:<br />\n<span style="color: rgb(51\, 51\, 51)\; font-family: sans-serif\, Arial\, Verdana\, &quot\;Trebuchet MS&quot\;\; font-size: 13px\; background-color: rgb(255\, 255\, 255)\;">&nbsp\;</span><strong style="color: rgb(51\, 51\, 51)\; font-family: sans-serif\, Arial\, Verdana\, &quot\;Trebuchet MS&quot\;\; font-size: 13px\;"><span style="color: rgb(29\, 53\, 103)\;"><span style="font-family: &quot\;trebuchet ms&quot\;\, sans-serif\;"><span style="font-size: 18pt\;">Let&#39\;s Celebrate Sisu Therapies One Year Anniversary</span></span></span></strong><br style="color: rgb(51\, 51\, 51)\; font-family: sans-serif\, Arial\, Verdana\, &quot\;Trebuchet MS&quot\;\; font-size: 13px\;" />\n<span style="color: rgb(51\, 51\, 51)\; font-family: sans-serif\, Arial\, Verdana\, &quot\;Trebuchet MS&quot\;\; font-size: 13px\; background-color: rgb(255\, 255\, 255)\;">&nbsp\;</span><br style="color: rgb(51\, 51\, 51)\; font-family: sans-serif\, Arial\, Verdana\, &quot\;Trebuchet MS&quot\;\; font-size: 13px\;" />\n<span style="font-family: sans-serif\, Arial\, Verdana\, &quot\;Trebuchet MS&quot\;\; font-size: 13px\; color: rgb(46\, 47\, 47)\;"><span style="font-family: &quot\;trebuchet ms&quot\;\, sans-serif\;"><span style="font-size: 13.5pt\;">The Windsor Area Chamber of Commerce cordially invites you to Sisu Therapies One Year Anniversary Celebration.</span></span></span><br style="color: rgb(51\, 51\, 51)\; font-family: sans-serif\, Arial\, Verdana\, &quot\;Trebuchet MS&quot\;\; font-size: 13px\;" />\n<span style="color: rgb(51\, 51\, 51)\; font-family: sans-serif\, Arial\, Verdana\, &quot\;Trebuchet MS&quot\;\; font-size: 13px\; background-color: rgb(255\, 255\, 255)\;">&nbsp\;</span><br style="color: rgb(51\, 51\, 51)\; font-family: sans-serif\, Arial\, Verdana\, &quot\;Trebuchet MS&quot\;\; font-size: 13px\;" />\n<strong style="color: rgb(51\, 51\, 51)\; font-family: sans-serif\, Arial\, Verdana\, &quot\;Trebuchet MS&quot\;\; font-size: 13px\;"><span style="color: rgb(46\, 47\, 47)\;"><span style="font-family: &quot\;trebuchet ms&quot\;\, sans-serif\;"><span style="font-size: 13.5pt\;">Date: May 4th &nbsp\;</span></span></span></strong><br style="color: rgb(51\, 51\, 51)\; font-family: sans-serif\, Arial\, Verdana\, &quot\;Trebuchet MS&quot\;\; font-size: 13px\;" />\n<strong style="color: rgb(51\, 51\, 51)\; font-family: sans-serif\, Arial\, Verdana\, &quot\;Trebuchet MS&quot\;\; font-size: 13px\;"><span style="color: rgb(46\, 47\, 47)\;"><span style="font-family: &quot\;trebuchet ms&quot\;\, sans-serif\;"><span style="font-size: 13.5pt\;">Time: 4:00 PM to 6:00 PM\, Certificate Presentation &ndash\; 4:30 PM</span></span></span></strong><br style="color: rgb(51\, 51\, 51)\; font-family: sans-serif\, Arial\, Verdana\, &quot\;Trebuchet MS&quot\;\; font-size: 13px\;" />\n<strong style="color: rgb(51\, 51\, 51)\; font-family: sans-serif\, Arial\, Verdana\, &quot\;Trebuchet MS&quot\;\; font-size: 13px\;"><span style="color: rgb(46\, 47\, 47)\;"><span style="font-family: &quot\;trebuchet ms&quot\;\, sans-serif\;"><span style="font-size: 13.5pt\;">Location: 1230 E Ash St\,</span></span></span></strong><strong style="color: rgb(51\, 51\, 51)\; font-family: sans-serif\, Arial\, Verdana\, &quot\;Trebuchet MS&quot\;\; font-size: 13px\;"><span style="color: rgb(46\, 47\, 47)\;"><span style="font-family: &quot\;trebuchet ms&quot\;\, sans-serif\;"><span style="font-size: 13.5pt\;">&nbsp\;Windsor Co</span></span></span></strong><br style="color: rgb(51\, 51\, 51)\; font-family: sans-serif\, Arial\, Verdana\, &quot\;Trebuchet MS&quot\;\; font-size: 13px\;" />\n<span style="color: rgb(51\, 51\, 51)\; font-family: sans-serif\, Arial\, Verdana\, &quot\;Trebuchet MS&quot\;\; font-size: 13px\; background-color: rgb(255\, 255\, 255)\;">&nbsp\;</span><br style="color: rgb(51\, 51\, 51)\; font-family: sans-serif\, Arial\, Verdana\, &quot\;Trebuchet MS&quot\;\; font-size: 13px\;" />\n<span style="font-family: sans-serif\, Arial\, Verdana\, &quot\;Trebuchet MS&quot\;\; font-size: 13px\; color: rgb(46\, 47\, 47)\;"><span style="font-family: &quot\;trebuchet ms&quot\;\, sans-serif\;"><span style="font-size: 13.5pt\;">The event will include light snacks\, and beverages compliments of</span></span></span><span style="color: rgb(51\, 51\, 51)\; font-family: sans-serif\, Arial\, Verdana\, &quot\;Trebuchet MS&quot\;\; font-size: 13px\; background-color: rgb(255\, 255\, 255)\;">&nbsp\;</span><span style="font-family: sans-serif\, Arial\, Verdana\, &quot\;Trebuchet MS&quot\;\; font-size: 13px\; color: rgb(46\, 47\, 47)\;"><span style="font-family: &quot\;trebuchet ms&quot\;\, sans-serif\;"><span style="font-size: 13.5pt\;">Sisu Therapies. Although the Open House is a free event\, you are required to register so the Chamber has an accurate count of guests for food and drinks.&nbsp\;</span></span></span>
LOCATION:
UID:e.2900.4870
SEQUENCE:3
DTSTAMP:20260422T081749Z
URL:https://business.windsorchamber.net/events/details/celebrate-sisu-therapies-one-year-anniversary-4870
END:VEVENT

END:VCALENDAR
