BEGIN:VCALENDAR
VERSION:2.0
PRODID:-//ChamberMaster//Event Calendar 2.0//EN
METHOD:PUBLISH
X-PUBLISHED-TTL:P3D
REFRESH-INTERVAL:P3D
CALSCALE:GREGORIAN
BEGIN:VEVENT
DTSTART;VALUE=DATE:20181224
DTEND;VALUE=DATE:20181226
TRANSP:TRANSPARENT
X-MICROSOFT-CDO-ALLDAYEVENT:TRUE
SUMMARY:Chamber Closed
DESCRIPTION:Windsor Chamber Closed -
X-ALT-DESC;FMTTYPE=text/html:Windsor Chamber Closed -
LOCATION:
UID:e.2900.1546
SEQUENCE:3
DTSTAMP:20260423T230606Z
URL:https://business.windsorchamber.net/events/details/chamber-closed-1546
END:VEVENT

END:VCALENDAR
