BEGIN:VCALENDAR
VERSION:2.0
PRODID:-//ChamberMaster//Event Calendar 2.0//EN
METHOD:PUBLISH
X-PUBLISHED-TTL:P3D
REFRESH-INTERVAL:P3D
CALSCALE:GREGORIAN
BEGIN:VEVENT
DTSTART;VALUE=DATE:20180704
DTEND;VALUE=DATE:20180705
TRANSP:TRANSPARENT
X-MICROSOFT-CDO-ALLDAYEVENT:TRUE
SUMMARY:Chamber Closed
DESCRIPTION:THE WINDSOR CHAMBER WILL BE CLOSED FOR\n\nJULY 4TH.  PLEASE HAVE A VERY SAFE AND HAPPY 4TH!!
X-ALT-DESC;FMTTYPE=text/html:THE WINDSOR CHAMBER WILL BE CLOSED FOR<br />\nJULY 4TH.&nbsp\; PLEASE HAVE A VERY SAFE AND HAPPY 4TH!!<br />\n&nbsp\;
LOCATION:
UID:e.2900.488
SEQUENCE:3
DTSTAMP:20260424T051938Z
URL:https://business.windsorchamber.net/events/details/chamber-closed-488
END:VEVENT

END:VCALENDAR
