BEGIN:VCALENDAR
VERSION:2.0
PRODID:-//ChamberMaster//Event Calendar 2.0//EN
METHOD:PUBLISH
X-PUBLISHED-TTL:P3D
REFRESH-INTERVAL:P3D
CALSCALE:GREGORIAN
BEGIN:VEVENT
DTSTART;VALUE=DATE:20180903
DTEND;VALUE=DATE:20180904
TRANSP:TRANSPARENT
X-MICROSOFT-CDO-ALLDAYEVENT:TRUE
SUMMARY:CHAMBER CLOSED FOR LABOR DAY
DESCRIPTION:WINDSOR CHAMBER WILL BE CLOSED FOR LABOR DAY WEEKEND.\n\nWINDSOR HARVEST FESTIVAL PARADE STARTS AT 9AM ON  THE CORNER OF FIRST STREET AND WALNUT.
X-ALT-DESC;FMTTYPE=text/html:WINDSOR CHAMBER WILL BE CLOSED FOR LABOR DAY WEEKEND.<br />\nWINDSOR HARVEST FESTIVAL PARADE STARTS AT 9AM ON&nbsp\; THE CORNER OF FIRST STREET AND WALNUT.
LOCATION:
UID:e.2900.1500
SEQUENCE:3
DTSTAMP:20260424T025019Z
URL:https://business.windsorchamber.net/events/details/chamber-closed-for-labor-day-1500
END:VEVENT

END:VCALENDAR
