BEGIN:VCALENDAR
VERSION:2.0
PRODID:-//ChamberMaster//Event Calendar 2.0//EN
METHOD:PUBLISH
X-PUBLISHED-TTL:P3D
REFRESH-INTERVAL:P3D
CALSCALE:GREGORIAN
BEGIN:VEVENT
DTSTART;VALUE=DATE:20190101
DTEND;VALUE=DATE:20190102
TRANSP:TRANSPARENT
X-MICROSOFT-CDO-ALLDAYEVENT:TRUE
SUMMARY:Chamber Closed for New Year's Day
DESCRIPTION:Chamber Closed On New Year's Day!\n\nHoping you and your family have a Very  Safe and Prosperous  New Year!!
X-ALT-DESC;FMTTYPE=text/html:Chamber Closed On New Year&#39\;s Day!<br />\nHoping you and your family have a Very&nbsp\; Safe and Prosperous &nbsp\;New Year!!&nbsp\;
LOCATION:
UID:e.2900.1547
SEQUENCE:3
DTSTAMP:20260423T220706Z
URL:https://business.windsorchamber.net/events/details/chamber-closed-for-new-year-s-day-1547
END:VEVENT

END:VCALENDAR
