BEGIN:VCALENDAR
VERSION:2.0
PRODID:-//ChamberMaster//Event Calendar 2.0//EN
METHOD:PUBLISH
X-PUBLISHED-TTL:P3D
REFRESH-INTERVAL:P3D
CALSCALE:GREGORIAN
BEGIN:VEVENT
DTSTART:20181117T160000Z
DTEND:20181118T000000Z
X-MICROSOFT-CDO-ALLDAYEVENT:FALSE
SUMMARY:Christmas In Windsor
DESCRIPTION:2018\n\nChristmas in Windsor Craft Show -
X-ALT-DESC;FMTTYPE=text/html:2018<br />\nChristmas in Windsor Craft Show -
LOCATION:Windsor Rec. Center - 250 N. 11th Street
UID:e.2900.1526
SEQUENCE:3
DTSTAMP:20260424T002805Z
URL:https://business.windsorchamber.net/events/details/christmas-in-windsor-1526
END:VEVENT

END:VCALENDAR
