BEGIN:VCALENDAR
VERSION:2.0
PRODID:-//ChamberMaster//Event Calendar 2.0//EN
METHOD:PUBLISH
X-PUBLISHED-TTL:P3D
REFRESH-INTERVAL:P3D
CALSCALE:GREGORIAN
BEGIN:VEVENT
DTSTART:20200729T180000Z
DTEND:20200729T200000Z
X-MICROSOFT-CDO-ALLDAYEVENT:FALSE
SUMMARY:Chy Creative Open House & Ribbon Cutting
DESCRIPTION:Let's Celebrate NEW Business!\n\n \n\n2020 has not gone as planned\, so Chy Creative is calling for a do-over. We had to push pause on opening the doors to our brand new studio and now more than ever\, we are ready to cut the ribbon that has been waiting. \n\n \n\nIt's time to show up and be present in support of small businesses in our community! A ribbon cutting by The Windsor Area Chamber of Commerce will kick start the day's events.\n\nEnjoy Down Right Sweet Treats\, drinks and live music with a video premiere of our latest artwork installs. See\, in-person\, our six foot metal mural and get a FREE HEADSHOT and swag bag. Bring a friend and Spin-to-Win artwork of your own! \n\nWe have missed serving you!\n\nGiggles promised.\n\n \n\n*Times will be staggered. We will personally reach out to all who RSVP online. Must be present to receive a free headshot and merchandise.
X-ALT-DESC;FMTTYPE=text/html:<div style="color: rgb(46\, 47\, 47)\; font-family: Verdana\, Geneva\, sans-serif\; font-size: 16px\; white-space: pre-wrap\; background-color: rgb(255\, 255\, 255)\; text-align: center\;"><span style="font-size: 24px\; color: rgb(60\, 36\, 94)\; font-weight: bold\; font-family: &quot\;Trebuchet MS&quot\;\, Verdana\, Helvetica\, sans-serif\;">Let&#39\;s Celebrate NEW Business!</span></div>\n\n<div style="color: rgb(46\, 47\, 47)\; font-family: Verdana\, Geneva\, sans-serif\; font-size: 16px\; white-space: pre-wrap\; background-color: rgb(255\, 255\, 255)\;">&nbsp\;</div>\n\n<div style="color: rgb(46\, 47\, 47)\; font-family: Verdana\, Geneva\, sans-serif\; font-size: 16px\; white-space: pre-wrap\; background-color: rgb(255\, 255\, 255)\;"><span style="font-family: &quot\;Trebuchet MS&quot\;\, Verdana\, Helvetica\, sans-serif\; font-size: 18px\;">2020 has not gone as planned\, so Chy Creative is calling for a do-over. We had to push pause on opening the doors to our brand new studio and now more than ever\, we are ready to cut the ribbon that has been waiting.&nbsp\;</span></div>\n\n<div style="color: rgb(46\, 47\, 47)\; font-family: Verdana\, Geneva\, sans-serif\; font-size: 16px\; white-space: pre-wrap\; background-color: rgb(255\, 255\, 255)\;">&nbsp\;</div>\n\n<div style="color: rgb(46\, 47\, 47)\; font-family: Verdana\, Geneva\, sans-serif\; font-size: 16px\; white-space: pre-wrap\; background-color: rgb(255\, 255\, 255)\;"><span style="font-family: &quot\;Trebuchet MS&quot\;\, Verdana\, Helvetica\, sans-serif\; font-size: 18px\;">It&rsquo\;s time to show up and be present in support of small businesses in our community! A ribbon cutting by The Windsor Area Chamber of Commerce will kick start the day&rsquo\;s events.</span>\n\n<div style="color: rgb(46\, 47\, 47)\; font-family: Verdana\, Geneva\, sans-serif\; font-size: 16px\; white-space: pre-wrap\; background-color: rgb(255\, 255\, 255)\;"><span style="font-size: 18px\; font-family: &quot\;Trebuchet MS&quot\;\, Verdana\, Helvetica\, sans-serif\;">Enjoy Down Right Sweet Treats\, drinks and live music with a video premiere of our latest artwork installs. See\, in-person\, our six foot metal mural and get a </span><span style="font-size: 18px\; font-family: &quot\;Trebuchet MS&quot\;\, Verdana\, Helvetica\, sans-serif\; font-weight: bold\;">FREE HEADSHOT</span><span style="font-size: 18px\; font-family: &quot\;Trebuchet MS&quot\;\, Verdana\, Helvetica\, sans-serif\;"> and swag bag. Bring a friend and Spin-to-Win artwork of your own!&nbsp\;</span></div>\n\n<div style="color: rgb(46\, 47\, 47)\; font-family: Verdana\, Geneva\, sans-serif\; font-size: 16px\; white-space: pre-wrap\; background-color: rgb(255\, 255\, 255)\;"><span style="font-size: 18px\; font-family: &quot\;Trebuchet MS&quot\;\, Verdana\, Helvetica\, sans-serif\;">We have missed serving you!</span></div>\n\n<div style="color: rgb(46\, 47\, 47)\; font-family: Verdana\, Geneva\, sans-serif\; font-size: 16px\; white-space: pre-wrap\; background-color: rgb(255\, 255\, 255)\;"><span style="font-size: 18px\; font-family: &quot\;Trebuchet MS&quot\;\, Verdana\, Helvetica\, sans-serif\;">Giggles promised.</span></div>\n\n<div style="color: rgb(46\, 47\, 47)\; font-family: Verdana\, Geneva\, sans-serif\; font-size: 16px\; white-space: pre-wrap\; background-color: rgb(255\, 255\, 255)\;">&nbsp\;</div>\n\n<div style="color: rgb(46\, 47\, 47)\; font-family: Verdana\, Geneva\, sans-serif\; font-size: 16px\; white-space: pre-wrap\; background-color: rgb(255\, 255\, 255)\;"><span style="font-size: 18px\; font-family: &quot\;Trebuchet MS&quot\;\, Verdana\, Helvetica\, sans-serif\; font-weight: bold\;">*Times will be staggered. We will personally reach out to all who RSVP online. Must be present to receive a free headshot and merchandise.</span></div>\n</div>\n
LOCATION:
UID:e.2900.4286
SEQUENCE:3
DTSTAMP:20260422T194258Z
URL:https://business.windsorchamber.net/events/details/chy-creative-open-house-ribbon-cutting-4286
END:VEVENT

END:VCALENDAR
