BEGIN:VCALENDAR
VERSION:2.0
PRODID:-//ChamberMaster//Event Calendar 2.0//EN
METHOD:PUBLISH
X-PUBLISHED-TTL:P3D
REFRESH-INTERVAL:P3D
CALSCALE:GREGORIAN
BEGIN:VEVENT
DTSTART:20170520T180000Z
DTEND:20170520T200000Z
X-MICROSOFT-CDO-ALLDAYEVENT:FALSE
SUMMARY:CLEARVIEW LIBRARY'S ANNUAL CHILI COOK-OFF
DESCRIPTION:Your best bowl of chili is needed at our 1st Annual Community Chili Cook off !!\n\nBOOKMOBILE POP-UP AND COOK-OFF - You could win a prize and bragging rights.  If you have the best chili in town!
X-ALT-DESC;FMTTYPE=text/html:Your best bowl of chili is needed at our 1st Annual Community Chili Cook off !!<br />\nBOOKMOBILE POP-UP AND COOK-OFF - You could win a prize and bragging rights.&nbsp\; If you have the best chili in town!
LOCATION:Boardwalk Park
UID:e.2900.38
SEQUENCE:3
DTSTAMP:20260425T021216Z
URL:https://business.windsorchamber.net/events/details/clearview-library-s-annual-chili-cook-off-38
END:VEVENT

END:VCALENDAR
