BEGIN:VCALENDAR
VERSION:2.0
PRODID:-//ChamberMaster//Event Calendar 2.0//EN
METHOD:PUBLISH
X-PUBLISHED-TTL:P3D
REFRESH-INTERVAL:P3D
CALSCALE:GREGORIAN
BEGIN:VEVENT
DTSTART:20180818T133000Z
DTEND:20180818T150000Z
X-MICROSOFT-CDO-ALLDAYEVENT:FALSE
SUMMARY:Coffee with the Mayor
DESCRIPTION:Windsor residents are invited to enjoy coffee and discuss their questions\, concerns or ideas with Mayor Kristie Melendez during a monthly Coffee with the Mayor event.  The event is held every third Saturday of the month and coffee is provided.
X-ALT-DESC;FMTTYPE=text/html:Windsor residents are invited to enjoy coffee and discuss their questions\, concerns or ideas with Mayor Kristie Melendez during a monthly Coffee with the Mayor event.&nbsp\; The event is held every third Saturday of the month and coffee is provided.
LOCATION:Coffee House 29 - 1039 Main St. Suite K
UID:e.2900.1501
SEQUENCE:3
DTSTAMP:20260424T040837Z
URL:https://business.windsorchamber.net/events/details/coffee-with-the-mayor-1501
END:VEVENT

END:VCALENDAR
