BEGIN:VCALENDAR
VERSION:2.0
PRODID:-//ChamberMaster//Event Calendar 2.0//EN
METHOD:PUBLISH
X-PUBLISHED-TTL:P3D
REFRESH-INTERVAL:P3D
CALSCALE:GREGORIAN
BEGIN:VEVENT
DTSTART:20181215T143000Z
DTEND:20181215T160000Z
X-MICROSOFT-CDO-ALLDAYEVENT:FALSE
SUMMARY:Coffee with the Mayor
DESCRIPTION:Windsor residents are invited to enjoy coffee and discuss their questions\, concerns or  ideas wth Mayor Kristie Melendez during a monthly Coffee with the Mayor event.
X-ALT-DESC;FMTTYPE=text/html:Windsor residents are invited to enjoy coffee and discuss their questions\, concerns or&nbsp\; ideas wth Mayor Kristie Melendez during a monthly Coffee with the Mayor event.
LOCATION:Safeway Starbucks\, 1535 Main Street
UID:e.2900.1505
SEQUENCE:3
DTSTAMP:20260423T230727Z
URL:https://business.windsorchamber.net/events/details/coffee-with-the-mayor-1505
END:VEVENT

END:VCALENDAR
