BEGIN:VCALENDAR
VERSION:2.0
PRODID:-//ChamberMaster//Event Calendar 2.0//EN
METHOD:PUBLISH
X-PUBLISHED-TTL:P3D
REFRESH-INTERVAL:P3D
CALSCALE:GREGORIAN
BEGIN:VEVENT
DTSTART:20190119T143000Z
DTEND:20190119T160000Z
X-MICROSOFT-CDO-ALLDAYEVENT:FALSE
SUMMARY:COFFEE WITH THE MAYOR
DESCRIPTION:Meet with Mayor Kristie Melendez over coffee to discuss your questions\, conerns or ideas for the Town of Windsor.  Coffee with the Mayor events are held on the third Saturday of every month from 7:30am to 9am
X-ALT-DESC;FMTTYPE=text/html:Meet with Mayor Kristie Melendez over coffee to discuss your questions\, conerns or ideas for the Town of Windsor.&nbsp\; Coffee with the Mayor events are held on the third Saturday of every month from 7:30am to 9am
LOCATION:Dunkin' Donuts - 1530 Main Street - Windsor
UID:e.2900.1561
SEQUENCE:3
DTSTAMP:20260423T215554Z
URL:https://business.windsorchamber.net/events/details/coffee-with-the-mayor-1561
END:VEVENT

END:VCALENDAR
