BEGIN:VCALENDAR
VERSION:2.0
PRODID:-//ChamberMaster//Event Calendar 2.0//EN
METHOD:PUBLISH
X-PUBLISHED-TTL:P3D
REFRESH-INTERVAL:P3D
CALSCALE:GREGORIAN
BEGIN:VEVENT
DTSTART:20180531T223000Z
DTEND:20180601T003000Z
X-MICROSOFT-CDO-ALLDAYEVENT:FALSE
SUMMARY:Colorado In Motion - ribbon Cutting and Open House
DESCRIPTION:Attend the Colorado in Motion's Open House and Ribbon Cutting for their new location.
X-ALT-DESC;FMTTYPE=text/html:Attend the Colorado in Motion&#39\;s Open House and Ribbon Cutting for their new location.
LOCATION:1555 Main Street A 4/5 - Safeway Center
UID:e.2900.475
SEQUENCE:3
DTSTAMP:20260424T080219Z
URL:https://business.windsorchamber.net/events/details/colorado-in-motion-ribbon-cutting-and-open-house-475
END:VEVENT

END:VCALENDAR
