BEGIN:VCALENDAR
VERSION:2.0
PRODID:-//ChamberMaster//Event Calendar 2.0//EN
METHOD:PUBLISH
X-PUBLISHED-TTL:P3D
REFRESH-INTERVAL:P3D
CALSCALE:GREGORIAN
BEGIN:VEVENT
DTSTART:20240322T180000Z
DTEND:20240322T220000Z
X-MICROSOFT-CDO-ALLDAYEVENT:FALSE
SUMMARY:Columbine Commons Health and Wellness Event
DESCRIPTION:In addition to the health and wellness fair\, this community-focused event will introduce attendees to the offerings of Columbine Commons\, give the opportunity to learn more about assisted living\, and include guided tours of the facility. Various health and wellness companies from the area will be in attendance as well to provide information about their services. The public is invited to take informative tours scheduled at the following times: 12:00 p.m. - Assisted Living Tour 1:00 p.m. - Skilled Nursing Tour 1:30 p.m. - Lakes Tour The event will also include a happy hour with live entertainment from 2:00 p.m. to 3:00 p.m. 2:00 p.m. - Independent Living Tour
X-ALT-DESC;FMTTYPE=text/html:In addition to the health and wellness fair\, this community-focused event will introduce attendees to the offerings of Columbine Commons\, give the opportunity to learn more about assisted living\, and include guided tours of the facility. Various health and wellness companies from the area will be in attendance as well to provide information about their services. The public is invited to take informative tours scheduled at the following times: 12:00 p.m. - Assisted Living Tour 1:00 p.m. - Skilled Nursing Tour 1:30 p.m. - Lakes Tour The event will also include a happy hour with live entertainment from 2:00 p.m. to 3:00 p.m. 2:00 p.m. - Independent Living Tour
LOCATION:Columbine Commons\, located at 1475 Main St. in Windsor
UID:e.2900.13156
SEQUENCE:3
DTSTAMP:20260420T034615Z
URL:https://business.windsorchamber.net/events/details/columbine-commons-health-and-wellness-event-13156
END:VEVENT

END:VCALENDAR
